BEGIN:VCALENDAR
VERSION:2.0
PRODID:-//eventon.com NONSGML v1.0//EN
CALSCALE:GREGORIAN
METHOD:PUBLISH
BEGIN:VEVENT
UID:69e72d8b30db0
DTSTAMP:20260421T075555Z
DTSTART:20241116T090000Z
DTEND:20241116T100000Z
LOCATION:Natura Village Clubhouse
SUMMARY:*Blue Sessions
DESCRIPTION:A yoga session is scheduled for November 16th in the morning at
  the Natura Village Clubhouse\,  with teacher Elena Menci. Elena is an inte
 rnational yoga teacher who has gained her experience in various destination
 s\,  including Bali\,  India\,  Dubai and Mallorca. She is a certified yoga
  teacher with 700 hours of[..]\nhttps://www.vilamouraworld.com/blog/events/
 blue-sessions-49/
URL:https://www.vilamouraworld.com/blog/events/blue-sessions-49/
END:VEVENT
END:VCALENDAR