BEGIN:VCALENDAR
VERSION:2.0
PRODID:-//eventon.com NONSGML v1.0//EN
CALSCALE:GREGORIAN
METHOD:PUBLISH
BEGIN:VEVENT
UID:69eaeda1ca9fc
DTSTAMP:20260424T041217Z
DTSTART:20240328
DTEND:20240329
LOCATION:Loulé Criativo Rua de Nossa Senhora de Fátima - Palácio Gama Lobo
SUMMARY:Workshop de cortiças para Crianças
DESCRIPTION:Um worskhop para os mais pequeninos aprenderem a trabalhar a co
 rtiça\,  com a orientação da artista Sandra Louro. As inscrições podem
  ser feitas em: sandra_louro@likecork.com\nhttps://www.vilamouraworld.com/b
 log/events/workshop-de-corticas-para-criancas/
URL:https://www.vilamouraworld.com/blog/events/workshop-de-corticas-para-criancas/
END:VEVENT
END:VCALENDAR