BEGIN:VCALENDAR
VERSION:2.0
PRODID:-//eventon.com NONSGML v1.0//EN
CALSCALE:GREGORIAN
METHOD:PUBLISH
BEGIN:VEVENT
UID:69ebb75234f4a
DTSTAMP:20260424T183250Z
DTSTART:20240323
DTEND:20240324
LOCATION:Loulé Criativo Rua de Nossa Senhora de Fátima - Palácio Gama Lobo
SUMMARY:Macramé Workshop – Vase Support
DESCRIPTION:This is a good opportunity to learn how to make supports for yo
 ur macramé vases. A Workshop with the guidance of Sandra Louro. Registrati
 ons can be made at: jomohandmade@gmail.com\nhttps://www.vilamouraworld.com/
 blog/events/macrame-workshop-vase-support/
URL:https://www.vilamouraworld.com/blog/events/macrame-workshop-vase-support/
END:VEVENT
END:VCALENDAR