BEGIN:VCALENDAR
VERSION:2.0
PRODID:-//eventon.com NONSGML v1.0//EN
CALSCALE:GREGORIAN
METHOD:PUBLISH
BEGIN:VEVENT
UID:69e72dd5c213f
DTSTAMP:20260421T075709Z
DTSTART:20240210
DTEND:20240211
LOCATION:Praia da Rocha Baixinha Praia da Rocha Baixinha. Morada: Vilamoura. 8100-000
SUMMARY:Campeonato Regional de Surf
DESCRIPTION:Nos dias 10 e 11 de fevereiro\,  realiza-se a 1ª etapa de Camp
 eonato Regional de Surf do Sul\,  organizada pela Associação Dinamika –
  Vilamoura Surf Project\,  com o apoio da Câmara Municipal de Loulé\,  Ju
 nta de Freguesia de Quarteira\,  Fundação António Aleixo e um conjunto d
 e entidades parceiras e patrocinadores.[..]\nhttps://www.vilamouraworld.com
 /blog/events/campeonato-regional-de-surf/
URL:https://www.vilamouraworld.com/blog/events/campeonato-regional-de-surf/
END:VEVENT
END:VCALENDAR